BEGIN:VCALENDAR
VERSION:2.0
PRODID:-//LPSV Salzburg - ECPv5.3.1.1//NONSGML v1.0//EN
CALSCALE:GREGORIAN
METHOD:PUBLISH
X-WR-CALNAME:LPSV Salzburg
X-ORIGINAL-URL:https://www.lpsv-salzburg.at
X-WR-CALDESC:Veranstaltungen für LPSV Salzburg
BEGIN:VTIMEZONE
TZID:Europe/Vienna
BEGIN:DAYLIGHT
TZOFFSETFROM:+0100
TZOFFSETTO:+0200
TZNAME:CEST
DTSTART:20260329T010000
END:DAYLIGHT
BEGIN:STANDARD
TZOFFSETFROM:+0200
TZOFFSETTO:+0100
TZNAME:CET
DTSTART:20261025T010000
END:STANDARD
END:VTIMEZONE
BEGIN:VEVENT
DTSTART;VALUE=DATE:20260512
DTEND;VALUE=DATE:20260513
DTSTAMP:20260422T143706
CREATED:20260210T102457Z
LAST-MODIFIED:20260315T190741Z
UID:5674-1778544000-1778630399@www.lpsv-salzburg.at
SUMMARY:Landesmeisterschaft Schießen
DESCRIPTION:Ausschreibung 
URL:https://www.lpsv-salzburg.at/veranstaltung/landesmeisterschaft-schiessen-2
LOCATION:Landeshauptschießstand Liefering\, Rechte Saalachzeile 52\, Salzburg\, 5020\, Österreich
ATTACH;FMTTYPE=image/jpeg:https://www.lpsv-salzburg.at/wp-content/uploads/2026/02/7C311584-5FF0-42E1-AEE6-C53E2F5CDD9E_1_201_a.jpeg
ORGANIZER;CN="LPSV%20Salzburg":MAILTO:LPD-S-LPSV-Salzburg@polizei.gv.at
END:VEVENT
BEGIN:VEVENT
DTSTART;TZID=Europe/Vienna:20260519T120000
DTEND;TZID=Europe/Vienna:20260519T120000
DTSTAMP:20260422T143707
CREATED:20260413T172954Z
LAST-MODIFIED:20260413T172954Z
UID:6632-1779192000-1779192000@www.lpsv-salzburg.at
SUMMARY:SAISON-OPENING    LPSV Tennisplatz
DESCRIPTION:
URL:https://www.lpsv-salzburg.at/veranstaltung/saison-opening-lpsv-tennisplatz
LOCATION:LPSV Tennisplatz -API Anif\, Eichenstraße 16\, Anif\, 5081
ATTACH;FMTTYPE=image/png:https://www.lpsv-salzburg.at/wp-content/uploads/2026/04/Saison-Opening-Polizei-LPSV-Tennis-Event.png
ORGANIZER;CN="Wolfgang%20Sams":MAILTO:wolfgang.sams@polizei.gv.at
END:VEVENT
BEGIN:VEVENT
DTSTART;VALUE=DATE:20260527
DTEND;VALUE=DATE:20260528
DTSTAMP:20260422T143707
CREATED:20260205T153050Z
LAST-MODIFIED:20260227T060824Z
UID:5669-1779840000-1779926399@www.lpsv-salzburg.at
SUMMARY:Landesmeisterschaft Soccergolf
DESCRIPTION:Ausschreibung 
URL:https://www.lpsv-salzburg.at/veranstaltung/landesmeisterschaft-soccergolf
LOCATION:Soccerpark Salzburg\, Oberaustraße 33\, Wals-Siezenheim\, Salzburg\, 5071\, Österreich
ORGANIZER;CN="LPSV%20Salzburg":MAILTO:LPD-S-LPSV-Salzburg@polizei.gv.at
END:VEVENT
BEGIN:VEVENT
DTSTART;VALUE=DATE:20260528
DTEND;VALUE=DATE:20260529
DTSTAMP:20260422T143707
CREATED:20251014T182058Z
LAST-MODIFIED:20260213T173333Z
UID:5395-1779926400-1780012799@www.lpsv-salzburg.at
SUMMARY:2. PADEL Landesmeisterschaft
DESCRIPTION:LM_Padel_2026_Ausschreibung
URL:https://www.lpsv-salzburg.at/veranstaltung/2-padel-landesmeisterschaft
LOCATION:Padelbase Salzburg\, Vogelweiderstraße 114\, Salzburg\, Salzburg\, 5020
ATTACH;FMTTYPE=image/jpeg:https://www.lpsv-salzburg.at/wp-content/uploads/2025/10/6D7D2740-5BFD-4C83-8924-4F151C043972_4_5005_c.jpeg
ORGANIZER;CN="LPSV%20Salzburg":MAILTO:LPD-S-LPSV-Salzburg@polizei.gv.at
END:VEVENT
BEGIN:VEVENT
DTSTART;VALUE=DATE:20260618
DTEND;VALUE=DATE:20260619
DTSTAMP:20260422T143707
CREATED:20251014T182411Z
LAST-MODIFIED:20251014T182411Z
UID:5399-1781740800-1781827199@www.lpsv-salzburg.at
SUMMARY:Tennis Einzel Landesmeisterschaft
DESCRIPTION:
URL:https://www.lpsv-salzburg.at/veranstaltung/tennis-einzel-landesmeisterschaft
LOCATION:1.Halleiner Tennisclub\, Pingitzzerkai 16\, Hallein\, 5400
ATTACH;FMTTYPE=image/jpeg:https://www.lpsv-salzburg.at/wp-content/uploads/2025/07/IMG_5133-e1752059574942.jpg
ORGANIZER;CN="LPSV%20Salzburg":MAILTO:LPD-S-LPSV-Salzburg@polizei.gv.at
END:VEVENT
BEGIN:VEVENT
DTSTART;VALUE=DATE:20260901
DTEND;VALUE=DATE:20260902
DTSTAMP:20260422T143707
CREATED:20260318T105219Z
LAST-MODIFIED:20260318T105219Z
UID:6477-1788220800-1788307199@www.lpsv-salzburg.at
SUMMARY:LM Beachvolleyball 2026
DESCRIPTION:Ausschreibung folgt…
URL:https://www.lpsv-salzburg.at/veranstaltung/lm-beachvolleyball-2026
LOCATION:ULSZ Rif\, Hartmannweg 4-6\, Hallein\, 5400\, Österreich
ATTACH;FMTTYPE=image/jpeg:https://www.lpsv-salzburg.at/wp-content/uploads/2025/09/57CB3575-CAD4-45DB-A03C-893239A33AA5_1_102_o.jpeg
ORGANIZER;CN="LPSV%20Salzburg":MAILTO:LPD-S-LPSV-Salzburg@polizei.gv.at
END:VEVENT
BEGIN:VEVENT
DTSTART;VALUE=DATE:20260909
DTEND;VALUE=DATE:20260910
DTSTAMP:20260422T143707
CREATED:20251014T182519Z
LAST-MODIFIED:20251014T182519Z
UID:5401-1788912000-1788998399@www.lpsv-salzburg.at
SUMMARY:2. Tennis DOPPEL Landesmeisterschaft
DESCRIPTION:
URL:https://www.lpsv-salzburg.at/veranstaltung/2-tennis-doppel-landesmeisterschaft
LOCATION:1.Halleiner Tennisclub\, Pingitzzerkai 16\, Hallein\, 5400
ATTACH;FMTTYPE=image/png:https://www.lpsv-salzburg.at/wp-content/uploads/2025/07/Tennis-Doppel-Bild-VA.png
ORGANIZER;CN="LPSV%20Salzburg":MAILTO:LPD-S-LPSV-Salzburg@polizei.gv.at
END:VEVENT
END:VCALENDAR