BEGIN:VCALENDAR
VERSION:2.0
PRODID:-//LPSV Salzburg - ECPv5.3.1.1//NONSGML v1.0//EN
CALSCALE:GREGORIAN
METHOD:PUBLISH
X-WR-CALNAME:LPSV Salzburg
X-ORIGINAL-URL:https://www.lpsv-salzburg.at
X-WR-CALDESC:Veranstaltungen für LPSV Salzburg
BEGIN:VTIMEZONE
TZID:Europe/Vienna
BEGIN:DAYLIGHT
TZOFFSETFROM:+0100
TZOFFSETTO:+0200
TZNAME:CEST
DTSTART:20250330T010000
END:DAYLIGHT
BEGIN:STANDARD
TZOFFSETFROM:+0200
TZOFFSETTO:+0100
TZNAME:CET
DTSTART:20251026T010000
END:STANDARD
END:VTIMEZONE
BEGIN:VEVENT
DTSTART;TZID=Europe/Vienna:20251013T090000
DTEND;TZID=Europe/Vienna:20251013T170000
DTSTAMP:20260424T163837
CREATED:20250729T175058Z
LAST-MODIFIED:20250803T091808Z
UID:5308-1760346000-1760374800@www.lpsv-salzburg.at
SUMMARY:Tennis DOPPEL-Landesmeisterschaft
DESCRIPTION:Lm_DOPPEL Tennis_25_Ausschreibung_neu
URL:https://www.lpsv-salzburg.at/veranstaltung/tennis-doppel-landesmeisterschaft
LOCATION:1.Halleiner Tennisclub\, Pingitzzerkai 16\, Hallein\, 5400
ATTACH;FMTTYPE=image/png:https://www.lpsv-salzburg.at/wp-content/uploads/2025/07/Tennis-Doppel-Bild-VA.png
ORGANIZER;CN="LPSV%20Salzburg":MAILTO:LPD-S-LPSV-Salzburg@polizei.gv.at
END:VEVENT
END:VCALENDAR