BEGIN:VCALENDAR
VERSION:2.0
PRODID:-//LPSV Salzburg - ECPv5.3.1.1//NONSGML v1.0//EN
CALSCALE:GREGORIAN
METHOD:PUBLISH
X-WR-CALNAME:LPSV Salzburg
X-ORIGINAL-URL:https://www.lpsv-salzburg.at
X-WR-CALDESC:Veranstaltungen für LPSV Salzburg
BEGIN:VTIMEZONE
TZID:Europe/Vienna
BEGIN:DAYLIGHT
TZOFFSETFROM:+0100
TZOFFSETTO:+0200
TZNAME:CEST
DTSTART:20250330T010000
END:DAYLIGHT
BEGIN:STANDARD
TZOFFSETFROM:+0200
TZOFFSETTO:+0100
TZNAME:CET
DTSTART:20251026T010000
END:STANDARD
END:VTIMEZONE
BEGIN:VEVENT
DTSTART;VALUE=DATE:20251105
DTEND;VALUE=DATE:20251106
DTSTAMP:20260424T163503
CREATED:20251014T181812Z
LAST-MODIFIED:20251014T181812Z
UID:5390-1762300800-1762387199@www.lpsv-salzburg.at
SUMMARY:LM Kegeln 2025
DESCRIPTION:Ausschreibung 2025_Kegeln
URL:https://www.lpsv-salzburg.at/veranstaltung/lm-kegeln-2025
LOCATION:Sportkegelbahnan KC Saalfelden\, Ramseiden 218\, Saalfelden\, 5760\, Österreich
ATTACH;FMTTYPE=image/jpeg:https://www.lpsv-salzburg.at/wp-content/uploads/2019/11/Brunner-Peter-in-Aktion.jpg
ORGANIZER;CN="LPSV%20Salzburg":MAILTO:LPD-S-LPSV-Salzburg@polizei.gv.at
END:VEVENT
END:VCALENDAR