BEGIN:VCALENDAR
VERSION:2.0
PRODID:-//LPSV Salzburg - ECPv5.3.1.1//NONSGML v1.0//EN
CALSCALE:GREGORIAN
METHOD:PUBLISH
X-WR-CALNAME:LPSV Salzburg
X-ORIGINAL-URL:https://www.lpsv-salzburg.at
X-WR-CALDESC:Veranstaltungen für LPSV Salzburg
BEGIN:VTIMEZONE
TZID:Europe/Vienna
BEGIN:DAYLIGHT
TZOFFSETFROM:+0100
TZOFFSETTO:+0200
TZNAME:CEST
DTSTART:20250330T010000
END:DAYLIGHT
BEGIN:STANDARD
TZOFFSETFROM:+0200
TZOFFSETTO:+0100
TZNAME:CET
DTSTART:20251026T010000
END:STANDARD
END:VTIMEZONE
BEGIN:VEVENT
DTSTART;VALUE=DATE:20251017
DTEND;VALUE=DATE:20251018
DTSTAMP:20260424T164412
CREATED:20250910T073927Z
LAST-MODIFIED:20250910T190505Z
UID:5364-1760659200-1760745599@www.lpsv-salzburg.at
SUMMARY:GoKart Landesmeisterschaft
DESCRIPTION:Ausschreibung GoKart 2025
URL:https://www.lpsv-salzburg.at/veranstaltung/gokart-landesmeisterschaft
LOCATION:Kartworld Salzburg\, Anton-Graf-Straße 7\, 5020\, Salzburg\, 5020\, Österreich
ATTACH;FMTTYPE=image/jpeg:https://www.lpsv-salzburg.at/wp-content/uploads/2025/09/Unbenannt.jpg
END:VEVENT
END:VCALENDAR