BEGIN:VCALENDAR
VERSION:2.0
PRODID:-//LPSV Salzburg - ECPv5.3.1.1//NONSGML v1.0//EN
CALSCALE:GREGORIAN
METHOD:PUBLISH
X-WR-CALNAME:LPSV Salzburg
X-ORIGINAL-URL:https://www.lpsv-salzburg.at
X-WR-CALDESC:Veranstaltungen für LPSV Salzburg
BEGIN:VTIMEZONE
TZID:Europe/Vienna
BEGIN:DAYLIGHT
TZOFFSETFROM:+0100
TZOFFSETTO:+0200
TZNAME:CEST
DTSTART:20260329T010000
END:DAYLIGHT
BEGIN:STANDARD
TZOFFSETFROM:+0200
TZOFFSETTO:+0100
TZNAME:CET
DTSTART:20261025T010000
END:STANDARD
END:VTIMEZONE
BEGIN:VEVENT
DTSTART;VALUE=DATE:20260909
DTEND;VALUE=DATE:20260910
DTSTAMP:20260424T134325
CREATED:20251014T182519Z
LAST-MODIFIED:20251014T182519Z
UID:5401-1788912000-1788998399@www.lpsv-salzburg.at
SUMMARY:2. Tennis DOPPEL Landesmeisterschaft
DESCRIPTION:
URL:https://www.lpsv-salzburg.at/veranstaltung/2-tennis-doppel-landesmeisterschaft
LOCATION:1.Halleiner Tennisclub\, Pingitzzerkai 16\, Hallein\, 5400
ATTACH;FMTTYPE=image/png:https://www.lpsv-salzburg.at/wp-content/uploads/2025/07/Tennis-Doppel-Bild-VA.png
ORGANIZER;CN="LPSV%20Salzburg":MAILTO:LPD-S-LPSV-Salzburg@polizei.gv.at
END:VEVENT
END:VCALENDAR